BEGIN:VCALENDAR
VERSION:2.0
PRODID:-//wp-events-plugin.com//7.2.2.1//EN
TZID:Europe/Bratislava
X-WR-TIMEZONE:Europe/Bratislava
BEGIN:VEVENT
UID:36@members.eisbratislava.org
DTSTART;TZID=Europe/Bratislava:20241016T143000
DTEND;TZID=Europe/Bratislava:20241016T151500
DTSTAMP:20241003T071215Z
URL:https://members.eisbratislava.org/events/unifrog-parent-session-academ
 y/
SUMMARY:UniFrog Parent Session - Academy
DESCRIPTION:Dear Academy Parents\,\n\nOn October 16th at 2:30 PM there will
  be a virtual UniFrog parent session hosted by Mr. Thomas Beadle and Mr. J
 acob Ingram. The purpose of this session is for High School Parents to bet
 ter understand how to use the UniFrog platform to search and compare unive
 rsities around the world\, discover specific university programs\, find ad
 mission requirements\, and more. All high school parents are invited\, but
  it is specifically encouraged that all Y11/ Y12/Y13 parents attend this s
 ession!\n\nWhen: On Wednesday\, October 16th at 2:30 PM\n\nWhere: Online (
 Zoom meeting link: https://us05web.zoom.us/j/93870399046?pwd=dWZDbWhxMWRpb
 TZGeS9OTkpLYjNGUT09)\n\nWho: All High School parents are invited\n\n&nbsp\
 ;\n\nHope to see you there!\n\n&nbsp\;
ATTACH;FMTTYPE=image/jpeg:https://members.eisbratislava.org/wp-content/upl
 oads/2024/10/unifrog.jpeg
CATEGORIES:Academic,Community
END:VEVENT
BEGIN:VTIMEZONE
TZID:Europe/Bratislava
X-LIC-LOCATION:Europe/Bratislava
BEGIN:DAYLIGHT
DTSTART:20240331T030000
TZOFFSETFROM:+0100
TZOFFSETTO:+0200
TZNAME:CEST
END:DAYLIGHT
END:VTIMEZONE
END:VCALENDAR